BEGIN:VCALENDAR
VERSION:2.0
PRODID:-//Tukios.com/
BEGIN:VEVENT
UID:ef63be2a-6f1c-4339-a80d-2abf4ff939f9@www.egglestonmeinert.com
DTSTAMP:20260421T195811Z
DTSTART:20260424T160000Z
DTEND:20260424T170000Z
SUMMARY:Funeral Service
DESCRIPTION:
URL:https://www.egglestonmeinert.com/obituaries/barbara-welch
LOCATION:St. Paul's United Methodist Church 1459 South ST.  Millbury OH 
	43447
GEO:41.5583874;-83.4245026
END:VEVENT
END:VCALENDAR