BEGIN:VCALENDAR
VERSION:2.0
PRODID:-//Tukios.com/
BEGIN:VEVENT
UID:ac20eb62-d6c5-43c1-8e9f-1cfb8e2b56a3@www.egglestonmeinert.com
DTSTAMP:20260421T200023Z
DTSTART:20260424T140000Z
DTEND:20260424T160000Z
SUMMARY:Visitation
DESCRIPTION:
URL:https://www.egglestonmeinert.com/obituaries/barbara-welch
LOCATION:St. Paul's United Methodist Church 1459 South ST.  Millbury OH 
	43447
GEO:41.5583874;-83.4245026
END:VEVENT
END:VCALENDAR