BEGIN:VCALENDAR
VERSION:2.0
PRODID:-//Tukios.com/
BEGIN:VEVENT
UID:563bdd61-c26d-4f48-8090-b3c91492b0ba@www.egglestonmeinert.com
DTSTAMP:20260422T192935Z
DTSTART:20260428T220000Z
DTEND:20260428T230000Z
SUMMARY:Funeral Service
DESCRIPTION:
URL:https://www.egglestonmeinert.com/obituaries/kathleen-ginter
LOCATION:Eggleston Meinert & Pavley Funeral Home-Oregon Chapel 440 S. Coy 
	Rd.  Oregon OH 43616
GEO:41.6436432;-83.4679209
END:VEVENT
END:VCALENDAR