BEGIN:VCALENDAR
VERSION:2.0
PRODID:-//Tukios.com/
BEGIN:VEVENT
UID:7463a19a-8b69-4401-b9e4-decd0f9191b5@www.egglestonmeinert.com
DTSTAMP:20260422T193442Z
DTSTART:20260428T160000Z
DTEND:20260428T220000Z
SUMMARY:Visitation
DESCRIPTION:
URL:https://www.egglestonmeinert.com/obituaries/kathleen-ginter
LOCATION:Eggleston Meinert & Pavley Funeral Home-Oregon Chapel 440 S. Coy 
	Rd.  Oregon OH 43616
GEO:41.6436432;-83.4679209
END:VEVENT
END:VCALENDAR