BEGIN:VCALENDAR
VERSION:2.0
PRODID:-//Tukios.com/
BEGIN:VEVENT
UID:6adb94b1-8b7f-4690-8117-78566d991770@www.egglestonmeinert.com
DTSTAMP:20260421T185008Z
DTSTART:20260502T150000Z
DTEND:20260502T160000Z
SUMMARY:Funeral Mass
DESCRIPTION:
URL:https://www.egglestonmeinert.com/obituaries/mary-good
LOCATION:Corpus Christi University Parish 2955 Door Street  Toledo OH 
	43607
GEO:41.6523289;-83.6144403
END:VEVENT
END:VCALENDAR