BEGIN:VCALENDAR
VERSION:2.0
PRODID:-//Tukios.com/
BEGIN:VEVENT
UID:022de363-7802-4f02-bfad-8aa7a37a14d8@www.egglestonmeinert.com
DTSTAMP:20260421T185337Z
DTSTART:20260502T140000Z
DTEND:20260502T150000Z
SUMMARY:Visitation
DESCRIPTION:
URL:https://www.egglestonmeinert.com/obituaries/mary-good
LOCATION:Corpus Christi University Parish 2955 Door Street  Toledo OH 
	43607
GEO:41.6523289;-83.6144403
END:VEVENT
END:VCALENDAR